BEGIN:VCALENDAR
VERSION:2.0
PRODID:DPCALENDAR
CALSCALE:GREGORIAN
BEGIN:VTIMEZONE
TZID:Europe/Berlin
X-MICROSOFT-CDO-TZID:4
BEGIN:STANDARD
DTSTART:20251026T010000
TZOFFSETFROM:+0200
TZOFFSETTO:+0100
TZNAME:CET
END:STANDARD
BEGIN:STANDARD
DTSTART:20261025T010000
TZOFFSETFROM:+0200
TZOFFSETTO:+0100
TZNAME:CET
END:STANDARD
BEGIN:DAYLIGHT
DTSTART:20260329T010000
TZOFFSETFROM:+0100
TZOFFSETTO:+0200
TZNAME:CEST
END:DAYLIGHT
END:VTIMEZONE
X-WR-TIMEZONE:Europe/Berlin
BEGIN:VEVENT
DTSTART;TZID=Europe/Berlin:20250122T200000
DTEND;TZID=Europe/Berlin:20250122T230000
UID:655B610A-6359-4E84-BF00-79EA49AD5631
SUMMARY:LP1 - Altstadt Augsburg
CREATED:20250117T223003Z
DTSTAMP:20250117T223003Z
URL:https://gruenholder.de/index.php/mannschaftskalender/lp1-altstadt-augsburg
LAST-MODIFIED:20250208T061016Z
SEQUENCE:1842013
X-ACCESS:1
X-HITS:13
X-COLOR:197a30
X-SHOW-END-TIME:1
END:VEVENT
BEGIN:VEVENT
DTSTART;TZID=Europe/Berlin:20250203T200000
DTEND;TZID=Europe/Berlin:20250203T230000
UID:F4D8CD2B-FBCA-4DBE-AAAC-D9EAB563D578
SUMMARY:Kgl.-priv. Augsburg - LP1
CREATED:20250117T223003Z
DTSTAMP:20250117T223003Z
URL:https://gruenholder.de/index.php/mannschaftskalender/lp1-altstadt-augsburg-2
LAST-MODIFIED:20250208T064511Z
SEQUENCE:1844108
X-ACCESS:1
X-HITS:24
X-COLOR:197a30
X-SHOW-END-TIME:1
END:VEVENT
BEGIN:VEVENT
DTSTART;TZID=Europe/Berlin:20250211T200000
DTEND;TZID=Europe/Berlin:20250211T230000
UID:D90896BB-F9E8-497A-B94D-3B31EFFB6EBE
SUMMARY:LP1 - DJK Hochzoll
CREATED:20250117T223003Z
DTSTAMP:20250117T223003Z
URL:https://gruenholder.de/index.php/mannschaftskalender/lp1-altstadt-augsburg-3
LAST-MODIFIED:20250209T142332Z
SEQUENCE:1958009
X-ACCESS:1
X-HITS:27
X-COLOR:197a30
X-SHOW-END-TIME:1
END:VEVENT
BEGIN:VEVENT
DTSTART;TZID=Europe/Berlin:20250321T200000
DTEND;TZID=Europe/Berlin:20250321T230000
UID:7E297703-B5D9-487D-AA38-F63F2B929090
SUMMARY:Ustersbach - LP1
CREATED:20250117T223003Z
DTSTAMP:20250117T223003Z
URL:https://gruenholder.de/index.php/mannschaftskalender/lp1-altstadt-augsburg-4
LAST-MODIFIED:20250308T165928Z
SEQUENCE:4300165
LOCATION:Weiherstraße 2\, 86514 Ustersbach\, Bayern\, Deutschland
GEO:48.31875180;10.64725315
X-LOCATION-DISPLAYNAME:Schützenverein 1875 Ustersbach-Mödishofen e.V.
X-ACCESS:1
X-HITS:91
X-COLOR:197a30
X-SHOW-END-TIME:1
END:VEVENT
BEGIN:VEVENT
DTSTART;TZID=Europe/Berlin:20250923T200000
DTEND;TZID=Europe/Berlin:20250923T230000
UID:21BD8C8D-6814-45A2-9D83-4FF509429D85
SUMMARY:Vorbereitungskampf LP1 - Ehingen
CREATED:20250916T194115Z
DTSTAMP:20250916T194115Z
URL:https://gruenholder.de/index.php/mannschaftskalender/vorbereitungskampf-lp1-ehingen
LAST-MODIFIED:20250916T194115Z
SEQUENCE:0
LOCATION:Holzhauser Weg 5\, 86456 Gablingen\, Bayern\, Deutschland
GEO:48.45203600;10.82003860
X-LOCATION-DISPLAYNAME:Grünholder Schützen Gablingen e.V.
X-ACCESS:1
X-HITS:17
X-COLOR:197a30
X-SHOW-END-TIME:1
END:VEVENT
BEGIN:VEVENT
DTSTART;TZID=Europe/Berlin:20251014T200000
DTEND;TZID=Europe/Berlin:20251014T230000
UID:DD67B5FB-6897-4F3A-834F-E52CAC1A3D5C
SUMMARY:LP1 - Scheppach SV 1921
CREATED:20250913T084635Z
DTSTAMP:20250913T084635Z
URL:https://gruenholder.de/index.php/mannschaftskalender/meldeschluss-lp1-scheppach-sv-1921
LAST-MODIFIED:20250922T222036Z
SEQUENCE:826441
LOCATION:Holzhauser Weg 5\, 86456 Gablingen\, Bayern\, Deutschland
GEO:48.45203600;10.82003860
X-LOCATION-DISPLAYNAME:Grünholder Schützen Gablingen e.V.
X-ACCESS:1
X-HITS:73
X-COLOR:197a30
X-SHOW-END-TIME:1
END:VEVENT
BEGIN:VEVENT
DTSTART;TZID=Europe/Berlin:20251029T200000
DTEND;TZID=Europe/Berlin:20251029T230000
UID:9102FD22-8EEE-402D-9BD8-3B26B72D630A
SUMMARY:Herbertshofen - LP1
CREATED:20250913T084635Z
DTSTAMP:20250913T084635Z
URL:https://gruenholder.de/index.php/mannschaftskalender/meldeschluss-lp1-scheppach-sv-1922
LAST-MODIFIED:20250916T191555Z
SEQUENCE:296960
LOCATION:Pestalozzistr. 1a\, 86405 Herbertshofen\, Bayern\, Deutschland
GEO:48.52719053;10.85137851
X-LOCATION-DISPLAYNAME:Lechtal Herbertshofen
X-ACCESS:1
X-HITS:78
X-COLOR:197a30
X-SHOW-END-TIME:1
END:VEVENT
BEGIN:VEVENT
DTSTART;TZID=Europe/Berlin:20251110T200000
DTEND;TZID=Europe/Berlin:20251110T230000
UID:4C2539F1-350B-41A0-9438-4143FD711670
SUMMARY:LP1 - Augsburg, Kgl.priv.SV
CREATED:20250913T084635Z
DTSTAMP:20250913T084635Z
URL:https://gruenholder.de/index.php/mannschaftskalender/meldeschluss-lp1-scheppach-sv-1923
LAST-MODIFIED:20250917T180155Z
SEQUENCE:378920
LOCATION:Holzhauser Weg 5\, 86456 Gablingen\, Bayern\, Deutschland
GEO:48.45203600;10.82003860
X-LOCATION-DISPLAYNAME:Grünholder Schützen Gablingen e.V.
X-ACCESS:1
X-HITS:105
X-COLOR:197a30
X-SHOW-END-TIME:1
END:VEVENT
BEGIN:VEVENT
DTSTART;TZID=Europe/Berlin:20251119T200000
DTEND;TZID=Europe/Berlin:20251119T230000
UID:911CBB51-27C9-4906-B8C7-E15F2C39882A
SUMMARY:Edelweiß Waldkirch - LP1
CREATED:20250913T084635Z
DTSTAMP:20250913T084635Z
URL:https://gruenholder.de/index.php/mannschaftskalender/meldeschluss-lp1-scheppach-sv-1924
LAST-MODIFIED:20251001T192255Z
SEQUENCE:1593380
LOCATION:Oberdorfstraße 24\, 89368 Waldkirch\, Bayern\, Deutschland
GEO:48.47925179;10.48228310
X-LOCATION-DISPLAYNAME:Edelweiss Waldkirch
X-ACCESS:1
X-HITS:75
X-COLOR:197a30
X-SHOW-END-TIME:1
END:VEVENT
BEGIN:VEVENT
DTSTART;TZID=Europe/Berlin:20251202T200000
DTEND;TZID=Europe/Berlin:20251202T230000
UID:EC9C4E68-BDB0-45E1-A1BA-FF22CE07A660
SUMMARY:Waldheil Streitheim - LP1
CREATED:20250913T084635Z
DTSTAMP:20250913T084635Z
URL:https://gruenholder.de/index.php/mannschaftskalender/meldeschluss-lp1-scheppach-sv-1925
LAST-MODIFIED:20250928T140835Z
SEQUENCE:1315320
LOCATION:Waldheilweg 3\, 86441 Zusmarshausen / Streitheim\, Bayern\, Deutschland
GEO:48.41804588;10.67614668
X-LOCATION-DISPLAYNAME:Waldheil Streitheim
X-ACCESS:1
X-HITS:92
X-COLOR:197a30
X-SHOW-END-TIME:1
END:VEVENT
BEGIN:VEVENT
DTSTART;TZID=Europe/Berlin:20260112T200000
DTEND;TZID=Europe/Berlin:20260112T230000
UID:6B261105-54D0-461D-89F0-6594C0391D4B
SUMMARY:Scheppach SV 1921 - LP1
CREATED:20250913T084635Z
DTSTAMP:20250913T084635Z
URL:https://gruenholder.de/index.php/mannschaftskalender/meldeschluss-lp1-scheppach-sv-1926
LAST-MODIFIED:20260111T210154Z
SEQUENCE:10412119
LOCATION:Adlerstraße 4\, 89343  Jettingen-Scheppach\, Bayern\, Deutschland
GEO:48.40882576;10.44574255
X-LOCATION-DISPLAYNAME:Scheppach SV 1921
X-ACCESS:1
X-HITS:130
X-COLOR:197a30
X-SHOW-END-TIME:0
END:VEVENT
BEGIN:VEVENT
DTSTART;TZID=Europe/Berlin:20260126T200000
DTEND;TZID=Europe/Berlin:20260126T230000
UID:A3A081FC-873D-44DA-95E7-ACDFE3799839
SUMMARY:LP1 - Herbertshofen
CREATED:20250913T084635Z
DTSTAMP:20250913T084635Z
URL:https://gruenholder.de/index.php/mannschaftskalender/meldeschluss-lp1-scheppach-sv-1927
LAST-MODIFIED:20251029T204016Z
SEQUENCE:4017221
LOCATION:Holzhauser Weg 5\, 86456 Gablingen\, Bayern\, Deutschland
GEO:48.45203600;10.82003860
X-LOCATION-DISPLAYNAME:Grünholder Schützen Gablingen e.V.
X-ACCESS:1
X-HITS:154
X-COLOR:197a30
X-SHOW-END-TIME:1
END:VEVENT
BEGIN:VEVENT
DTSTART;TZID=Europe/Berlin:20260209T193000
DTEND;TZID=Europe/Berlin:20260209T230000
UID:FC0E5A04-9B35-4208-80C8-F18F9E1B133B
SUMMARY:Meldeschluss: Augsburg, Kgl.priv.SV - LP1
CREATED:20250913T084635Z
DTSTAMP:20250913T084635Z
URL:https://gruenholder.de/index.php/mannschaftskalender/meldeschluss-lp1-scheppach-sv-1928
LAST-MODIFIED:20251110T202316Z
SEQUENCE:5053001
LOCATION:Stadionstraße 5\, 86159 Augsburg\, Bayern\, Deutschland
GEO:48.35909990;10.87477910
X-LOCATION-DISPLAYNAME:Königlich Privilegierter Schützenverein Augsburg
X-ACCESS:1
X-HITS:155
X-COLOR:197a30
X-SHOW-END-TIME:1
END:VEVENT
BEGIN:VEVENT
DTSTART;TZID=Europe/Berlin:20260223T200000
DTEND;TZID=Europe/Berlin:20260223T230000
UID:46F117BD-6DBF-49F9-8749-9A91E3720CA8
SUMMARY:LP1 - Edelweiß Waldkirch
CREATED:20250913T084635Z
DTSTAMP:20250913T084635Z
URL:https://gruenholder.de/index.php/mannschaftskalender/meldeschluss-lp1-scheppach-sv-1929
LAST-MODIFIED:20251119T210819Z
SEQUENCE:5833304
LOCATION:Holzhauser Weg 5\, 86456 Gablingen\, Bayern\, Deutschland
GEO:48.45203600;10.82003860
X-LOCATION-DISPLAYNAME:Grünholder Schützen Gablingen e.V.
X-ACCESS:1
X-HITS:184
X-COLOR:197a30
X-SHOW-END-TIME:1
END:VEVENT
BEGIN:VEVENT
DTSTART;TZID=Europe/Berlin:20260310T200000
DTEND;TZID=Europe/Berlin:20260310T230000
UID:58029735-7F3A-4E8F-8A39-5941F625AE29
SUMMARY:LP1 - Waldheil Streitheim
CREATED:20250913T084635Z
DTSTAMP:20250913T084635Z
URL:https://gruenholder.de/index.php/mannschaftskalender/meldeschluss-lp1-scheppach-sv-1930
LAST-MODIFIED:20251202T202633Z
SEQUENCE:6953998
LOCATION:Holzhauser Weg 5\, 86456 Gablingen\, Bayern\, Deutschland
GEO:48.45203600;10.82003860
X-LOCATION-DISPLAYNAME:Grünholder Schützen Gablingen e.V.
X-ACCESS:1
X-HITS:188
X-COLOR:197a30
X-SHOW-END-TIME:1
END:VEVENT
END:VCALENDAR