BEGIN:VCALENDAR
VERSION:2.0
PRODID:DPCALENDAR
CALSCALE:GREGORIAN
BEGIN:VTIMEZONE
TZID:Europe/Berlin
X-MICROSOFT-CDO-TZID:4
BEGIN:STANDARD
DTSTART:20251026T010000
TZOFFSETFROM:+0200
TZOFFSETTO:+0100
TZNAME:CET
END:STANDARD
BEGIN:STANDARD
DTSTART:20261025T010000
TZOFFSETFROM:+0200
TZOFFSETTO:+0100
TZNAME:CET
END:STANDARD
BEGIN:DAYLIGHT
DTSTART:20260329T010000
TZOFFSETFROM:+0100
TZOFFSETTO:+0200
TZNAME:CEST
END:DAYLIGHT
END:VTIMEZONE
X-WR-TIMEZONE:Europe/Berlin
BEGIN:VEVENT
DTSTART;TZID=Europe/Berlin:20250121T200000
DTEND;TZID=Europe/Berlin:20250121T220000
UID:750A659B-6571-48C4-B7D7-A70C772B8E77
SUMMARY:Lechhausen TSG 1 - SP1
CREATED:20250119T170727Z
DTSTAMP:20250119T170727Z
URL:https://gruenholder.de/index.php/mannschaftskalender/sp1-lechhausen-tsg-1
LAST-MODIFIED:20250208T064907Z
SEQUENCE:1690900
X-ACCESS:1
X-HITS:11
X-COLOR:197a30
X-SHOW-END-TIME:1
END:VEVENT
BEGIN:VEVENT
DTSTART;TZID=Europe/Berlin:20250205T200000
DTEND;TZID=Europe/Berlin:20250205T213000
UID:193A27D9-4F92-49CE-8EEC-F3EEDB4C5020
SUMMARY:SP1 - Schretzheim
CREATED:20250121T204338Z
DTSTAMP:20250121T204338Z
URL:https://gruenholder.de/index.php/mannschaftskalender/sp1-schretzheim
LAST-MODIFIED:20250208T064920Z
SEQUENCE:1505142
X-ACCESS:1
X-HITS:14
X-COLOR:197a30
X-SHOW-END-TIME:1
END:VEVENT
BEGIN:VEVENT
DTSTART;TZID=Europe/Berlin:20250217T200000
DTEND;TZID=Europe/Berlin:20250217T220000
UID:8C184AD6-DFC8-4555-9A48-15E449D98659
SUMMARY:Altstadt - SP1
CREATED:20250215T120155Z
DTSTAMP:20250215T120155Z
URL:https://gruenholder.de/index.php/mannschaftskalender/altstadt-sp1
LAST-MODIFIED:20250215T130416Z
SEQUENCE:3741
X-ACCESS:1
X-HITS:34
X-COLOR:197a30
X-SHOW-END-TIME:1
END:VEVENT
BEGIN:VEVENT
DTSTART;TZID=Europe/Berlin:20251008T200000
DTEND;TZID=Europe/Berlin:20251008T220000
UID:E83B9981-BD2C-45A9-9E4C-EA3CB87558D2
SUMMARY:RWK SP1 - VSG Asbach-Bäumenheim
CREATED:20250913T084635Z
DTSTAMP:20250913T084635Z
URL:https://gruenholder.de/index.php/mannschaftskalender/rwk-sp1-vsg-asbach-baeumenheim
LAST-MODIFIED:20250930T102357Z
SEQUENCE:1474642
LOCATION:Aystetter Str. 17\, 86356 Neusäß / Ottmarshausen\, Bayern\, Deutschland
GEO:48.39954394;10.80002810
X-LOCATION-DISPLAYNAME:Sportschützengesellschaft Edelweiß Ottmarshausen e.V.
X-ACCESS:1
X-HITS:48
X-COLOR:197a30
X-SHOW-END-TIME:1
END:VEVENT
BEGIN:VEVENT
DTSTART;TZID=Europe/Berlin:20251024T200000
DTEND;TZID=Europe/Berlin:20251024T230000
UID:83701D19-8561-48E8-A417-157B9E4B0BFC
SUMMARY:SG Eintracht Schretzheim 1891 - SP1
CREATED:20250913T084635Z
DTSTAMP:20250913T084635Z
URL:https://gruenholder.de/index.php/mannschaftskalender/meldeschluss-lp1-scheppach-sv-1939
LAST-MODIFIED:20251004T154657Z
SEQUENCE:1839622
LOCATION:Hubertusstraße 1\, 89407 Schretzheim\, Bayern\, Deutschland
GEO:48.59107478;10.50603079
X-LOCATION-DISPLAYNAME:SG Eintracht Schretzheim 1891
X-ACCESS:1
X-HITS:69
X-COLOR:197a30
X-SHOW-END-TIME:1
END:VEVENT
BEGIN:VEVENT
DTSTART;TZID=Europe/Berlin:20251103T200000
DTEND;TZID=Europe/Berlin:20251103T230000
UID:D535EBBD-9379-4865-9997-177510C38C32
SUMMARY:Altstadt Augsburg - SP1
CREATED:20250913T084635Z
DTSTAMP:20250913T084635Z
URL:https://gruenholder.de/index.php/mannschaftskalender/meldeschluss-lp1-scheppach-sv-1940
LAST-MODIFIED:20251014T193001Z
SEQUENCE:2717006
LOCATION:Stadionstraße 5\, 86159 Augsburg\, Bayern\, Deutschland
GEO:48.35909990;10.87477910
X-LOCATION-DISPLAYNAME:Königlich Privilegierter Schützenverein Augsburg
X-ACCESS:1
X-HITS:73
X-COLOR:197a30
X-SHOW-END-TIME:0
END:VEVENT
BEGIN:VEVENT
DTSTART;TZID=Europe/Berlin:20251111T200000
DTEND;TZID=Europe/Berlin:20251111T230000
UID:2605CB93-5294-4EEE-A190-FEC4834A3AC4
SUMMARY:DJK-Sternschützen - SP1
CREATED:20250913T084635Z
DTSTAMP:20250913T084635Z
URL:https://gruenholder.de/index.php/mannschaftskalender/meldeschluss-lp1-scheppach-sv-1941
LAST-MODIFIED:20251102T165941Z
SEQUENCE:4349586
LOCATION:Zugspitzstraße 173\, 86165  Augsburg\, Bayern\, Deutschland
GEO:48.36615365;10.93535562
X-LOCATION-DISPLAYNAME:DJK-Sternschützen Augsburg-Hochzoll
X-ACCESS:1
X-HITS:96
X-COLOR:197a30
X-SHOW-END-TIME:1
END:VEVENT
BEGIN:VEVENT
DTSTART;TZID=Europe/Berlin:20251203T200000
DTEND;TZID=Europe/Berlin:20251203T230000
UID:4A7FE19E-FF74-400F-BFB8-4B6EEE7DD4E8
SUMMARY:SP1 - TSG Augsburg-Lechhausen
CREATED:20250913T084635Z
DTSTAMP:20250913T084635Z
URL:https://gruenholder.de/index.php/mannschaftskalender/meldeschluss-lp1-scheppach-sv-1942
LAST-MODIFIED:20251029T052716Z
SEQUENCE:3962441
LOCATION:Aystetter Str. 17\, 86356 Neusäß / Ottmarshausen\, Bayern\, Deutschland
GEO:48.39954394;10.80002810
X-LOCATION-DISPLAYNAME:Sportschützengesellschaft Edelweiß Ottmarshausen e.V.
X-ACCESS:1
X-HITS:107
X-COLOR:197a30
X-SHOW-END-TIME:1
END:VEVENT
BEGIN:VEVENT
DTSTART;TZID=Europe/Berlin:20260119T200000
DTEND;TZID=Europe/Berlin:20260119T233000
UID:3C89CFB6-3613-45A6-9E34-D71F3F4963B3
SUMMARY:VSG Asbach-Bäumenheim - SP1
CREATED:20250913T084635Z
DTSTAMP:20250913T084635Z
URL:https://gruenholder.de/index.php/mannschaftskalender/meldeschluss-lp1-scheppach-sv-1943
LAST-MODIFIED:20251008T214031Z
SEQUENCE:2206436
LOCATION:Schützenstraße 14\, 86698 Oberndorf\, Bayern\, Deutschland
GEO:48.66712412;10.86277653
X-LOCATION-DISPLAYNAME:Altschützen 1888 Oberndorf a. Lech e. V.
X-ACCESS:1
X-HITS:129
X-COLOR:197a30
X-SHOW-END-TIME:1
END:VEVENT
BEGIN:VEVENT
DTSTART;TZID=Europe/Berlin:20260128T200000
DTEND;TZID=Europe/Berlin:20260128T230000
UID:37ED8E25-3548-4B7A-B5F7-C86B6B5C5875
SUMMARY:SP1 - Eintracht Schretzheim
CREATED:20250913T084635Z
DTSTAMP:20250913T084635Z
URL:https://gruenholder.de/index.php/mannschaftskalender/meldeschluss-lp1-scheppach-sv-1944
LAST-MODIFIED:20251024T200516Z
SEQUENCE:3583121
LOCATION:Aystetter Str. 17\, 86356 Neusäß / Ottmarshausen\, Bayern\, Deutschland
GEO:48.39954394;10.80002810
X-LOCATION-DISPLAYNAME:Sportschützengesellschaft Edelweiß Ottmarshausen e.V.
X-ACCESS:1
X-HITS:145
X-COLOR:197a30
X-SHOW-END-TIME:1
END:VEVENT
BEGIN:VEVENT
DTSTART;TZID=Europe/Berlin:20260211T200000
DTEND;TZID=Europe/Berlin:20260211T230000
UID:61C53B59-8150-4AC8-A154-E873888BE796
SUMMARY:SP1 - Altstadt Augsburg
CREATED:20250913T084635Z
DTSTAMP:20250913T084635Z
URL:https://gruenholder.de/index.php/mannschaftskalender/meldeschluss-lp1-scheppach-sv-1945
LAST-MODIFIED:20251219T194842Z
SEQUENCE:8420527
LOCATION:Aystetter Str. 17\, 86356 Neusäß / Ottmarshausen\, Bayern\, Deutschland
GEO:48.39954394;10.80002810
X-LOCATION-DISPLAYNAME:Sportschützengesellschaft Edelweiß Ottmarshausen e.V.
X-ACCESS:1
X-HITS:161
X-COLOR:197a30
X-SHOW-END-TIME:1
END:VEVENT
BEGIN:VEVENT
DTSTART;TZID=Europe/Berlin:20260225T200000
DTEND;TZID=Europe/Berlin:20260225T230000
UID:E5856178-4866-43FB-B212-3CABB1A987D9
SUMMARY:SP1 - DJK-Sternschützen
CREATED:20250913T084635Z
DTSTAMP:20250913T084635Z
URL:https://gruenholder.de/index.php/mannschaftskalender/meldeschluss-lp1-scheppach-sv-1946
LAST-MODIFIED:20251111T213712Z
SEQUENCE:5143837
LOCATION:Talblick 21\, 86356 Neusäß\, Bayern\, Deutschland
GEO:48.39881140;10.80407770
X-LOCATION-DISPLAYNAME:Ottmarshausen
X-ACCESS:1
X-HITS:139
X-COLOR:197a30
X-SHOW-END-TIME:1
END:VEVENT
BEGIN:VEVENT
DTSTART;TZID=Europe/Berlin:20260313T200000
DTEND;TZID=Europe/Berlin:20260313T230000
UID:B849A448-D837-4BB1-A457-6160F64C88D9
SUMMARY:TSG Augsburg-Lechhausen - SP1
CREATED:20250913T084635Z
DTSTAMP:20250913T084635Z
URL:https://gruenholder.de/index.php/mannschaftskalender/meldeschluss-lp1-scheppach-sv-1947
LAST-MODIFIED:20251219T195017Z
SEQUENCE:8420622
LOCATION:Schillstraße 109\, 86169 Augsburg\, Bayern\, Deutschland
GEO:48.38916982;10.90381170
X-LOCATION-DISPLAYNAME:TSG-Sportschützen Augsburg-Lechhausen
X-ACCESS:1
X-HITS:162
X-COLOR:197a30
X-SHOW-END-TIME:1
END:VEVENT
END:VCALENDAR